BEGIN:VCALENDAR
VERSION:2.0
PRODID:-//Café &quot;Ein Stück vom Himmel&quot; - ECPv6.15.11//NONSGML v1.0//EN
CALSCALE:GREGORIAN
METHOD:PUBLISH
X-ORIGINAL-URL:https://www.stueckvomhimmel.de
X-WR-CALDESC:Veranstaltungen für Café &quot;Ein Stück vom Himmel&quot;
REFRESH-INTERVAL;VALUE=DURATION:PT1H
X-Robots-Tag:noindex
X-PUBLISHED-TTL:PT1H
BEGIN:VTIMEZONE
TZID:Europe/Berlin
BEGIN:DAYLIGHT
TZOFFSETFROM:+0100
TZOFFSETTO:+0200
TZNAME:CEST
DTSTART:20250330T010000
END:DAYLIGHT
BEGIN:STANDARD
TZOFFSETFROM:+0200
TZOFFSETTO:+0100
TZNAME:CET
DTSTART:20251026T010000
END:STANDARD
BEGIN:DAYLIGHT
TZOFFSETFROM:+0100
TZOFFSETTO:+0200
TZNAME:CEST
DTSTART:20260329T010000
END:DAYLIGHT
BEGIN:STANDARD
TZOFFSETFROM:+0200
TZOFFSETTO:+0100
TZNAME:CET
DTSTART:20261025T010000
END:STANDARD
BEGIN:DAYLIGHT
TZOFFSETFROM:+0100
TZOFFSETTO:+0200
TZNAME:CEST
DTSTART:20270328T010000
END:DAYLIGHT
BEGIN:STANDARD
TZOFFSETFROM:+0200
TZOFFSETTO:+0100
TZNAME:CET
DTSTART:20271031T010000
END:STANDARD
END:VTIMEZONE
BEGIN:VEVENT
DTSTART;TZID=Europe/Berlin:20260502T140000
DTEND;TZID=Europe/Berlin:20260502T160000
DTSTAMP:20260422T181709
CREATED:20250502T121550Z
LAST-MODIFIED:20260206T151441Z
UID:630-1777730400-1777737600@www.stueckvomhimmel.de
SUMMARY:Workshop zum Muttertag im Café 02.05.2026
DESCRIPTION:Workshop zum Muttertag\nSamstag\, 02.05.2026 | 14:00 – 16:00 Uhr \nKreativer Muttertags-Workshop im Café\n„Ein Stück vom Himmel“\ngemeinsam mit Sabrina von Festwerk Design Lüneburg. \nGenießen Sie einen liebevollen\, kreativen Nachmittag – ideal auch als Geschenkidee\nzum Muttertag.\nWeitere Informationen zum Workshopinhalt folgen in Kürze. \nWir bitten um Reservierung. \n\n\n \n📞 \nAnmeldung & Infos:\n\n\n0163 3220299
URL:https://www.stueckvomhimmel.de/event/workshop-zum-muttertag-im-cafe-02-05-2026/
END:VEVENT
BEGIN:VEVENT
DTSTART;TZID=Europe/Berlin:20260510T100000
DTEND;TZID=Europe/Berlin:20260510T130000
DTSTAMP:20260422T181709
CREATED:20250510T074439Z
LAST-MODIFIED:20260206T151023Z
UID:602-1778407200-1778418000@www.stueckvomhimmel.de
SUMMARY:Musikalischer Muttertagsbrunch im Café 10.05.2026
DESCRIPTION:Muttertagsbrunch im Café „Ein Stück vom Himmel“\nSonntag\, 10.05.2026 | 10:00 – 13:00 Uhr \nVerbringen Sie den Muttertag in entspannter Atmosphäre und genießen Sie unseren\nhimmlischen Brunch – liebevoll zubereitet und perfekt für gemeinsame Zeit. \nEs erwartet Sie unser reguläres Brunchangebot mit einer feinen Auswahl an\nFrühstücks- und Brunchköstlichkeiten sowie warmen und kalten Getränken. \n\nPreise \nErwachsene: 37\,90 € \nKinder von 3 bis 6 Jahren: 8\,90 € \nKinder von 7 bis 12 Jahren: 17\,90 € \nAb 13 Jahren: voller Preis \n\nWir bitten um Reservierung. \n\n\n📞 \nReservierungen unter:\n\n\n0163 3220299
URL:https://www.stueckvomhimmel.de/event/musikalischer-muttertagsbrunch-im-cafe-10-05-2026/
END:VEVENT
BEGIN:VEVENT
DTSTART;TZID=Europe/Berlin:20260524T100000
DTEND;TZID=Europe/Berlin:20260524T130000
DTSTAMP:20260422T181709
CREATED:20250524T082312Z
LAST-MODIFIED:20260206T151041Z
UID:612-1779616800-1779627600@www.stueckvomhimmel.de
SUMMARY:Musikalischer Brunch an Pfingsten im Café 24.05.2026
DESCRIPTION:Pfingstbrunch im Café „Ein Stück vom Himmel“\nSonntag\, 24.05.2026 | 10:00 – 13:00 Uhr \n\n    Genießen Sie die Pfingstzeit bei einem entspannten Brunch in gemütlicher Atmosphäre.\n    Unser Pfingstbrunch lädt zum Zusammensein\,\n    Verweilen und Genießen ein.\n   \n\n    Es erwartet Sie unser reguläres Brunchangebot mit einer liebevollen Auswahl\n    an Frühstücks- und Brunchköstlichkeiten sowie warmen und kalten Getränken.\n   \n\nPreise \nErwachsene: 37\,90 € \nKinder von 3 bis 6 Jahren: 8\,90 € \nKinder von 7 bis 12 Jahren: 17\,90 € \nAb 13 Jahren: voller Preis \n \n\n    Wir bitten um Reservierung.\n   \n\n\n\n    📞 \n    Reservierungen unter:\n    \n      \n        0163 3220299
URL:https://www.stueckvomhimmel.de/event/musikalischer-brunch-an-pfingsten-im-cafe-24-05-2026/
END:VEVENT
BEGIN:VEVENT
DTSTART;TZID=Europe/Berlin:20260525T090000
DTEND;TZID=Europe/Berlin:20260525T180000
DTSTAMP:20260422T181709
CREATED:20250525T082437Z
LAST-MODIFIED:20260112T092721Z
UID:614-1779699600-1779732000@www.stueckvomhimmel.de
SUMMARY:Pfingst-Genusszeit im Café 25.05.2026
DESCRIPTION:Pfingst-Genusszeit im Café „Ein Stück vom Himmel“\nMontag\, 25.05.2026 \n\n    Verbringen Sie den Pfingstmontag bei uns und genießen Sie einen Tag voller\n    himmlischer Genussmomente.\n    Am Vormittag laden wir Sie zur Frühstückszeit ein\, am Nachmittag zu Kaffee und Kuchen.\n   \n\nHimmlische Frühstückszeit \n09:00 – 12:00 Uhr \nKleines Frühstück \nJoghurt\, Quark\, Müsli oder Porridge mit frischem Obst \nab 4\,90 € \nMittleres Frühstück \nBelegtes Brötchen\, Croissant\, Ei und Obst \nab 6\,90 € \nGroßes Frühstück \n\n      Frühstücksbuffet inklusive Filterkaffee\, Tee\, Wasser und Orangensaft\n     \n27\,90 € pro Person \n \n\n    Für das Frühstück bitten wir um Reservierung.\n   \n\n\nHimmlische Kuchenzeit\nMontag\, 25.05.2026 | ab 14:00 Uhr \n\n    Am Nachmittag laden wir Sie herzlich zur\n    Himmlischen Kuchenzeit ein.\n   \n\n    Genießen Sie feine Kuchenvariationen\, heiße und kalte Getränke und eine entspannte Atmosphäre\n    zum Verweilen und Genießen.\n   \n\n\n\n    📞 \n    Reservierungen unter:\n    \n      \n        0163 3220299\n      \n    \n   \nÖffnungszeiten am Pfingstmontag \n09:00 – 12:00 Uhr · Frühstück \nab 14:00 Uhr · Café & Kuchenzeit
URL:https://www.stueckvomhimmel.de/event/pfingst-genusszeit-im-cafe-25-05-2026/
END:VEVENT
END:VCALENDAR