BEGIN:VCALENDAR
VERSION:2.0
PRODID:-//Café &quot;Ein Stück vom Himmel&quot; - ECPv6.15.11//NONSGML v1.0//EN
CALSCALE:GREGORIAN
METHOD:PUBLISH
X-ORIGINAL-URL:https://www.stueckvomhimmel.de
X-WR-CALDESC:Veranstaltungen für Café &quot;Ein Stück vom Himmel&quot;
REFRESH-INTERVAL;VALUE=DURATION:PT1H
X-Robots-Tag:noindex
X-PUBLISHED-TTL:PT1H
BEGIN:VTIMEZONE
TZID:Europe/Berlin
BEGIN:DAYLIGHT
TZOFFSETFROM:+0100
TZOFFSETTO:+0200
TZNAME:CEST
DTSTART:20250330T010000
END:DAYLIGHT
BEGIN:STANDARD
TZOFFSETFROM:+0200
TZOFFSETTO:+0100
TZNAME:CET
DTSTART:20251026T010000
END:STANDARD
BEGIN:DAYLIGHT
TZOFFSETFROM:+0100
TZOFFSETTO:+0200
TZNAME:CEST
DTSTART:20260329T010000
END:DAYLIGHT
BEGIN:STANDARD
TZOFFSETFROM:+0200
TZOFFSETTO:+0100
TZNAME:CET
DTSTART:20261025T010000
END:STANDARD
BEGIN:DAYLIGHT
TZOFFSETFROM:+0100
TZOFFSETTO:+0200
TZNAME:CEST
DTSTART:20270328T010000
END:DAYLIGHT
BEGIN:STANDARD
TZOFFSETFROM:+0200
TZOFFSETTO:+0100
TZNAME:CET
DTSTART:20271031T010000
END:STANDARD
END:VTIMEZONE
BEGIN:VEVENT
DTSTART;TZID=Europe/Berlin:20261220T100000
DTEND;TZID=Europe/Berlin:20261220T130000
DTSTAMP:20260423T204057
CREATED:20251220T091815Z
LAST-MODIFIED:20260206T151137Z
UID:608-1797760800-1797771600@www.stueckvomhimmel.de
SUMMARY:Musikalischer Brunch zum 4. Advent im Café 20.12.2026
DESCRIPTION:Brunch am 4. Advent im Café „Ein Stück vom Himmel“\nSonntag\, 20.12.2026 | 10:00 – 13:00 Uhr \n\n    Genießen Sie die besondere Stimmung des 4. Advents bei einem gemütlichen Brunch\n    in vorweihnachtlicher Atmosphäre.\n    Unser Adventsbrunch lädt zum Innehalten\,\n    Zusammensein und Genießen ein.\n   \n\n    Es erwartet Sie unser reguläres Brunchangebot mit einer liebevollen Auswahl\n    an Frühstücks- und Brunchköstlichkeiten sowie warmen und kalten Getränken.\n   \n\nPreise \nErwachsene: 37\,90 € \nKinder von 3 bis 6 Jahren: 8\,90 € \nKinder von 7 bis 12 Jahren: 17\,90 € \nAb 13 Jahren: voller Preis \n \n\n    Wir bitten um Reservierung.\n   \n\n\n\n    📞 \n    Reservierungen unter:\n    \n      \n        0163 3220299
URL:https://www.stueckvomhimmel.de/event/musikalischer-brunch-zum-4-advent-im-cafe-20-12-2026/
END:VEVENT
END:VCALENDAR